BEGIN:VCALENDAR
VERSION:2.0
PRODID:-//Tukios.com/
BEGIN:VEVENT
UID:9561f673-fd2e-4d84-879a-fc45ef904bd6@www.sinnfuneralhome.com
DTSTAMP:20260424T224155Z
DTSTART:20260516T150000Z
DTEND:20260516T160000Z
SUMMARY:Visitation
DESCRIPTION:
URL:https://www.sinnfuneralhome.com/obituaries/cheryl-reiman
LOCATION: 212 N Prairie St  Sherburn MN 56171
GEO:43.6548668;-94.7304781
END:VEVENT
END:VCALENDAR