BEGIN:VCALENDAR
VERSION:2.0
PRODID:-//Tukios.com/
BEGIN:VEVENT
UID:309b379b-0698-498a-9f49-219e6d173192@www.sinnfuneralhome.com
DTSTAMP:20260424T224958Z
DTSTART:20260516T160000Z
DTEND:20260516T170000Z
SUMMARY:Celebration of Life
DESCRIPTION:
URL:https://www.sinnfuneralhome.com/obituaries/cheryl-reiman
LOCATION: 212 N Prairie St  Sherburn MN 56171
GEO:43.6548668;-94.7304781
END:VEVENT
END:VCALENDAR